BEGIN:VCALENDAR
VERSION:2.0
PRODID:-//Harp of Erin - ECPv4.6.12//NONSGML v1.0//EN
CALSCALE:GREGORIAN
METHOD:PUBLISH
X-WR-CALNAME:Harp of Erin
X-ORIGINAL-URL:https://www.harpoferin.com.au
X-WR-CALDESC:Events for Harp of Erin
BEGIN:VEVENT
DTSTART;TZID=UTC+10:20210126T190000
DTEND;TZID=UTC+10:20210126T220000
DTSTAMP:20210301T132710
CREATED:20210113T004031Z
LAST-MODIFIED:20210113T004031Z
UID:16699-1611687600-1611698400@www.harpoferin.com.au
SUMMARY:A League Live
DESCRIPTION:Melbourne Victory v Sydney \n
URL:https://www.harpoferin.com.au/event/a-league-live-108/
CATEGORIES:Sport
ATTACH;FMTTYPE=image/png:https://www.harpoferin.com.au/wp-content/uploads/a-league-2019.png
END:VEVENT
END:VCALENDAR