BEGIN:VCALENDAR
VERSION:2.0
PRODID:-//Harp of Erin - ECPv4.6.12//NONSGML v1.0//EN
CALSCALE:GREGORIAN
METHOD:PUBLISH
X-WR-CALNAME:Harp of Erin
X-ORIGINAL-URL:https://www.harpoferin.com.au
X-WR-CALDESC:Events for Harp of Erin
BEGIN:VEVENT
DTSTART;TZID=UTC+10:20210206T193000
DTEND;TZID=UTC+10:20210206T230000
DTSTAMP:20210301T132203
CREATED:20210203T022037Z
LAST-MODIFIED:20210203T022839Z
UID:16781-1612639800-1612652400@www.harpoferin.com.au
SUMMARY:Big Bash Cricket Final
DESCRIPTION:Final action live tonight! \n
URL:https://www.harpoferin.com.au/event/big-bash-cricket-final/
CATEGORIES:Sport
ATTACH;FMTTYPE=image/png:https://www.harpoferin.com.au/wp-content/uploads/big-bash-logo.png
END:VEVENT
END:VCALENDAR