BEGIN:VCALENDAR
VERSION:2.0
PRODID:-//Harp of Erin - ECPv4.6.12//NONSGML v1.0//EN
CALSCALE:GREGORIAN
METHOD:PUBLISH
X-WR-CALNAME:Harp of Erin
X-ORIGINAL-URL:https://www.harpoferin.com.au
X-WR-CALDESC:Events for Harp of Erin
BEGIN:VEVENT
DTSTART;TZID=UTC+10:20250228T123000
DTEND;TZID=UTC+10:20250228T190000
DTSTAMP:20260426T040007
CREATED:20250225T040650Z
LAST-MODIFIED:20250225T040650Z
UID:22524-1740745800-1740769200@www.harpoferin.com.au
SUMMARY:Live Golf
DESCRIPTION:NZ Open 2025 \n
URL:https://www.harpoferin.com.au/event/live-golf/2025-02-28/
CATEGORIES:Sport
ATTACH;FMTTYPE=image/png:https://www.harpoferin.com.au/wp-content/uploads/nz-golf-open-2025.png
END:VEVENT
END:VCALENDAR