BEGIN:VCALENDAR
VERSION:2.0
PRODID:-//Harp of Erin - ECPv4.6.12//NONSGML v1.0//EN
CALSCALE:GREGORIAN
METHOD:PUBLISH
X-WR-CALNAME:Harp of Erin
X-ORIGINAL-URL:https://www.harpoferin.com.au
X-WR-CALDESC:Events for Harp of Erin
BEGIN:VEVENT
DTSTART;TZID=UTC+10:20210302T180000
DTEND;TZID=UTC+10:20210302T200000
DTSTAMP:20210301T132430
CREATED:20210120T032450Z
LAST-MODIFIED:20210120T032450Z
UID:16883-1614708000-1614715200@www.harpoferin.com.au
SUMMARY:Magic & Balloons with Justin!
DESCRIPTION:Be entertained by Justin’s magic & amazing balloon creations!  All children receive a free Show Bag with every child’s meal! \n
URL:https://www.harpoferin.com.au/event/magic-balloons-with-justin-2021-02-23/2021-03-02/
CATEGORIES:Entertainment
ATTACH;FMTTYPE=image/jpeg:https://www.harpoferin.com.au/wp-content/uploads/justin-case-2018.jpg
END:VEVENT
END:VCALENDAR