BEGIN:VCALENDAR
VERSION:2.0
PRODID:-//Harp of Erin - ECPv4.6.12//NONSGML v1.0//EN
CALSCALE:GREGORIAN
METHOD:PUBLISH
X-WR-CALNAME:Harp of Erin
X-ORIGINAL-URL:https://www.harpoferin.com.au
X-WR-CALDESC:Events for Harp of Erin
BEGIN:VEVENT
DTSTART;TZID=UTC+10:20210328T213000
DTEND;TZID=UTC+10:20210329T013000
DTSTAMP:20210301T132400
CREATED:20210120T032101Z
LAST-MODIFIED:20210301T055437Z
UID:16889-1616967000-1616981400@www.harpoferin.com.au
SUMMARY:Sunday Nights @ the Harp
DESCRIPTION:Enjoy your Australia Day long weekend & kick back Sunday night with Gary Eastwood! \n
URL:https://www.harpoferin.com.au/event/sunday-nights-the-harp-2/2021-03-28/
CATEGORIES:Entertainment
ATTACH;FMTTYPE=image/jpeg:https://www.harpoferin.com.au/wp-content/uploads/GARY-EASTWOOD-Poster_FB_v1.jpg
END:VEVENT
END:VCALENDAR